Package: RTN Version: 2.28.0 Command: /home/biocbuild/R/R-beta-2024-04-15_r86425/bin/R CMD build --keep-empty-dirs --no-resave-data RTN StartedAt: 2024-05-09 03:12:52 -0000 (Thu, 09 May 2024) EndedAt: 2024-05-09 03:18:05 -0000 (Thu, 09 May 2024) EllapsedTime: 313.4 seconds RetCode: 0 Status: OK PackageFile: RTN_2.28.0.tar.gz PackageFileSize: 10.29 MiB