Package: RTN Version: 2.28.0 Command: /Library/Frameworks/R.framework/Resources/bin/R CMD check --install=check:RTN.install-out.txt --library=/Library/Frameworks/R.framework/Resources/library --no-vignettes --timings RTN_2.28.0.tar.gz StartedAt: 2024-06-11 03:50:27 -0400 (Tue, 11 Jun 2024) EndedAt: 2024-06-11 03:57:22 -0400 (Tue, 11 Jun 2024) EllapsedTime: 414.7 seconds RetCode: 0 Status: OK CheckDir: RTN.Rcheck Warnings: 0