Package: RTN Version: 2.28.0 Command: /Library/Frameworks/R.framework/Resources/bin/R CMD check --install=check:RTN.install-out.txt --library=/Library/Frameworks/R.framework/Resources/library --no-vignettes --timings RTN_2.28.0.tar.gz StartedAt: 2024-10-18 10:25:12 -0400 (Fri, 18 Oct 2024) EndedAt: 2024-10-18 10:30:18 -0400 (Fri, 18 Oct 2024) EllapsedTime: 306.0 seconds RetCode: 0 Status: OK CheckDir: RTN.Rcheck Warnings: 0