Package: RTCGAToolbox Version: 2.34.0 Command: E:\biocbuild\bbs-3.19-bioc\R\bin\R.exe CMD INSTALL RTCGAToolbox StartedAt: 2024-10-16 16:31:43 -0400 (Wed, 16 Oct 2024) EndedAt: 2024-10-16 16:32:29 -0400 (Wed, 16 Oct 2024) EllapsedTime: 45.8 seconds RetCode: 0 Status: OK