Package: RTCGAToolbox Version: 2.34.0 Command: chmod a+r RTCGAToolbox -R && E:\biocbuild\bbs-3.19-bioc\R\bin\R.exe CMD build --keep-empty-dirs --no-resave-data RTCGAToolbox StartedAt: 2024-10-16 21:38:41 -0400 (Wed, 16 Oct 2024) EndedAt: 2024-10-16 21:40:01 -0400 (Wed, 16 Oct 2024) EllapsedTime: 79.8 seconds RetCode: 0 Status: OK PackageFile: RTCGAToolbox_2.34.0.tar.gz PackageFileSize: 2.33 MiB