Package: RTCGAToolbox Version: 2.34.0 Command: rm -rf RTCGAToolbox.buildbin-libdir && mkdir RTCGAToolbox.buildbin-libdir && E:\biocbuild\bbs-3.19-bioc\R\bin\R.exe CMD INSTALL --build --library=RTCGAToolbox.buildbin-libdir RTCGAToolbox_2.34.0.tar.gz StartedAt: 2024-10-17 08:32:22 -0400 (Thu, 17 Oct 2024) EndedAt: 2024-10-17 08:33:36 -0400 (Thu, 17 Oct 2024) EllapsedTime: 74.5 seconds RetCode: 0 Status: OK PackageFile: RTCGAToolbox_2.34.0.zip PackageFileSize: 629.3 KiB