Package: RTCGAToolbox Version: 2.34.0 Command: chmod a+r RTCGAToolbox -R && F:\biocbuild\bbs-3.19-bioc\R\bin\R.exe CMD build --keep-empty-dirs --no-resave-data RTCGAToolbox StartedAt: 2024-06-26 21:33:51 -0400 (Wed, 26 Jun 2024) EndedAt: 2024-06-26 21:34:41 -0400 (Wed, 26 Jun 2024) EllapsedTime: 50.0 seconds RetCode: 0 Status: OK PackageFile: RTCGAToolbox_2.34.0.tar.gz PackageFileSize: 2.33 MiB