Package: RTCGAToolbox Version: 2.34.0 Command: rm -rf RTCGAToolbox.buildbin-libdir && mkdir RTCGAToolbox.buildbin-libdir && F:\biocbuild\bbs-3.19-bioc\R\bin\R.exe CMD INSTALL --build --library=RTCGAToolbox.buildbin-libdir RTCGAToolbox_2.34.0.tar.gz StartedAt: 2024-06-27 08:50:18 -0400 (Thu, 27 Jun 2024) EndedAt: 2024-06-27 08:50:57 -0400 (Thu, 27 Jun 2024) EllapsedTime: 38.8 seconds RetCode: 0 Status: OK PackageFile: RTCGAToolbox_2.34.0.zip PackageFileSize: 629 KiB