Package: RTCGAToolbox Version: 2.34.0 Command: /Library/Frameworks/R.framework/Resources/bin/R CMD check --install=check:RTCGAToolbox.install-out.txt --library=/Library/Frameworks/R.framework/Resources/library --no-vignettes --timings RTCGAToolbox_2.34.0.tar.gz StartedAt: 2024-06-09 22:45:10 -0400 (Sun, 09 Jun 2024) EndedAt: 2024-06-09 22:48:43 -0400 (Sun, 09 Jun 2024) EllapsedTime: 212.8 seconds RetCode: 0 Status: OK CheckDir: RTCGAToolbox.Rcheck Warnings: 0