Package: RTCGAToolbox Version: 2.34.0 Command: /Library/Frameworks/R.framework/Resources/bin/R CMD check --install=check:RTCGAToolbox.install-out.txt --library=/Library/Frameworks/R.framework/Resources/library --no-vignettes --timings RTCGAToolbox_2.34.0.tar.gz StartedAt: 2024-06-11 03:50:10 -0400 (Tue, 11 Jun 2024) EndedAt: 2024-06-11 03:55:22 -0400 (Tue, 11 Jun 2024) EllapsedTime: 311.2 seconds RetCode: 0 Status: OK CheckDir: RTCGAToolbox.Rcheck Warnings: 0