Package: RTCGAToolbox Version: 2.34.0 Command: rm -rf RTCGAToolbox.buildbin-libdir && mkdir RTCGAToolbox.buildbin-libdir && /Users/biocbuild/BBS/utils/build-universal.sh RTCGAToolbox_2.34.0.tar.gz /Library/Frameworks/R.framework/Resources/bin/R RTCGAToolbox.buildbin-libdir StartedAt: 2024-10-18 20:28:19 -0400 (Fri, 18 Oct 2024) EndedAt: 2024-10-18 20:28:58 -0400 (Fri, 18 Oct 2024) EllapsedTime: 38.6 seconds RetCode: 0 Status: OK PackageFile: RTCGAToolbox_2.34.0.tgz PackageFileSize: 624.9 KiB