Package: RTCGA Version: 1.34.0 Command: chmod a+r RTCGA -R && E:\biocbuild\bbs-3.19-bioc\R\bin\R.exe CMD build --keep-empty-dirs --no-resave-data RTCGA StartedAt: 2024-10-16 21:38:39 -0400 (Wed, 16 Oct 2024) EndedAt: 2024-10-16 21:39:06 -0400 (Wed, 16 Oct 2024) EllapsedTime: 27.2 seconds RetCode: 0 Status: OK PackageFile: RTCGA_1.34.0.tar.gz PackageFileSize: 2.337 MiB