Package: RTCGA Version: 1.34.0 Command: /Library/Frameworks/R.framework/Resources/bin/R CMD INSTALL RTCGA StartedAt: 2024-10-16 16:49:22 -0400 (Wed, 16 Oct 2024) EndedAt: 2024-10-16 16:49:46 -0400 (Wed, 16 Oct 2024) EllapsedTime: 23.9 seconds RetCode: 0 Status: OK