Package: RTCGA Version: 1.34.0 Command: /Library/Frameworks/R.framework/Resources/bin/R CMD build --keep-empty-dirs --no-resave-data RTCGA StartedAt: 2024-10-17 08:05:18 -0400 (Thu, 17 Oct 2024) EndedAt: 2024-10-17 08:05:35 -0400 (Thu, 17 Oct 2024) EllapsedTime: 17.8 seconds RetCode: 0 Status: OK PackageFile: RTCGA_1.34.0.tar.gz PackageFileSize: 2.336 MiB