Package: RTCGA Version: 1.34.0 Command: rm -rf RTCGA.buildbin-libdir && mkdir RTCGA.buildbin-libdir && /Users/biocbuild/BBS/utils/build-universal.sh RTCGA_1.34.0.tar.gz /Library/Frameworks/R.framework/Resources/bin/R RTCGA.buildbin-libdir StartedAt: 2024-10-18 20:28:14 -0400 (Fri, 18 Oct 2024) EndedAt: 2024-10-18 20:28:31 -0400 (Fri, 18 Oct 2024) EllapsedTime: 17.2 seconds RetCode: 0 Status: OK PackageFile: RTCGA_1.34.0.tgz PackageFileSize: 2.427 MiB