Package: RTCA Version: 1.56.0 Command: chmod a+r RTCA -R && F:\biocbuild\bbs-3.19-bioc\R\bin\R.exe CMD build --keep-empty-dirs --no-resave-data RTCA StartedAt: 2024-06-26 21:33:40 -0400 (Wed, 26 Jun 2024) EndedAt: 2024-06-26 21:34:08 -0400 (Wed, 26 Jun 2024) EllapsedTime: 28.0 seconds RetCode: 0 Status: OK PackageFile: RTCA_1.56.0.tar.gz PackageFileSize: 335.6 KiB