Package: RTCA Version: 1.56.0 Command: rm -rf RTCA.buildbin-libdir && mkdir RTCA.buildbin-libdir && F:\biocbuild\bbs-3.19-bioc\R\bin\R.exe CMD INSTALL --build --library=RTCA.buildbin-libdir RTCA_1.56.0.tar.gz StartedAt: 2024-06-27 08:50:14 -0400 (Thu, 27 Jun 2024) EndedAt: 2024-06-27 08:50:34 -0400 (Thu, 27 Jun 2024) EllapsedTime: 19.6 seconds RetCode: 0 Status: OK PackageFile: RTCA_1.56.0.zip PackageFileSize: 594.3 KiB