Package: RTCA Version: 1.56.0 Command: /Library/Frameworks/R.framework/Resources/bin/R CMD build --keep-empty-dirs --no-resave-data RTCA StartedAt: 2024-10-16 22:47:10 -0400 (Wed, 16 Oct 2024) EndedAt: 2024-10-16 22:47:47 -0400 (Wed, 16 Oct 2024) EllapsedTime: 36.7 seconds RetCode: 0 Status: OK PackageFile: RTCA_1.56.0.tar.gz PackageFileSize: 334.7 KiB