Package: RTCA Version: 1.56.0 Command: rm -rf RTCA.buildbin-libdir && mkdir RTCA.buildbin-libdir && /Users/biocbuild/BBS/utils/build-universal.sh RTCA_1.56.0.tar.gz /Library/Frameworks/R.framework/Resources/bin/R RTCA.buildbin-libdir StartedAt: 2024-10-17 17:04:05 -0400 (Thu, 17 Oct 2024) EndedAt: 2024-10-17 17:04:20 -0400 (Thu, 17 Oct 2024) EllapsedTime: 15.2 seconds RetCode: 0 Status: OK PackageFile: RTCA_1.56.0.tgz PackageFileSize: 592.9 KiB