Package: RSeqAn Version: 1.24.0 Command: /Library/Frameworks/R.framework/Resources/bin/R CMD build --keep-empty-dirs --no-resave-data RSeqAn StartedAt: 2024-10-16 22:46:28 -0400 (Wed, 16 Oct 2024) EndedAt: 2024-10-16 22:47:15 -0400 (Wed, 16 Oct 2024) EllapsedTime: 46.9 seconds RetCode: 0 Status: OK PackageFile: RSeqAn_1.24.0.tar.gz PackageFileSize: 1.62 MiB