Package: RSeqAn Version: 1.24.0 Command: rm -rf RSeqAn.buildbin-libdir && mkdir RSeqAn.buildbin-libdir && /Users/biocbuild/BBS/utils/build-universal.sh RSeqAn_1.24.0.tar.gz /Library/Frameworks/R.framework/Resources/bin/R RSeqAn.buildbin-libdir StartedAt: 2024-10-17 17:03:58 -0400 (Thu, 17 Oct 2024) EndedAt: 2024-10-17 17:04:26 -0400 (Thu, 17 Oct 2024) EllapsedTime: 27.7 seconds RetCode: 0 Status: OK PackageFile: RSeqAn_1.24.0.tgz PackageFileSize: 1.715 MiB