Package: RSeqAn Version: 1.24.0 Command: /home/biocbuild/R/R-beta-2024-04-15_r86425/bin/R CMD build --keep-empty-dirs --no-resave-data RSeqAn StartedAt: 2024-05-09 03:11:45 -0000 (Thu, 09 May 2024) EndedAt: 2024-05-09 03:12:16 -0000 (Thu, 09 May 2024) EllapsedTime: 31.0 seconds RetCode: 0 Status: OK PackageFile: RSeqAn_1.24.0.tar.gz PackageFileSize: 1.621 MiB