Package: RSeqAn Version: 1.24.0 Command: /Library/Frameworks/R.framework/Resources/bin/R CMD check --install=check:RSeqAn.install-out.txt --library=/Library/Frameworks/R.framework/Resources/library --no-vignettes --timings RSeqAn_1.24.0.tar.gz StartedAt: 2024-10-18 10:19:29 -0400 (Fri, 18 Oct 2024) EndedAt: 2024-10-18 10:20:01 -0400 (Fri, 18 Oct 2024) EllapsedTime: 32.5 seconds RetCode: 0 Status: OK CheckDir: RSeqAn.Rcheck Warnings: 0