Package: RSVSim Version: 1.44.0 Command: E:\biocbuild\bbs-3.19-bioc\R\bin\R.exe CMD INSTALL RSVSim StartedAt: 2024-10-16 16:30:47 -0400 (Wed, 16 Oct 2024) EndedAt: 2024-10-16 16:31:28 -0400 (Wed, 16 Oct 2024) EllapsedTime: 40.5 seconds RetCode: 0 Status: OK