Package: RSVSim Version: 1.44.0 Command: rm -rf RSVSim.buildbin-libdir && mkdir RSVSim.buildbin-libdir && F:\biocbuild\bbs-3.19-bioc\R\bin\R.exe CMD INSTALL --build --library=RSVSim.buildbin-libdir RSVSim_1.44.0.tar.gz StartedAt: 2024-06-27 08:50:10 -0400 (Thu, 27 Jun 2024) EndedAt: 2024-06-27 08:51:06 -0400 (Thu, 27 Jun 2024) EllapsedTime: 56.1 seconds RetCode: 0 Status: OK PackageFile: RSVSim_1.44.0.zip PackageFileSize: 617.9 KiB