Package: RSVSim Version: 1.44.0 Command: /home/biocbuild/bbs-3.19-bioc/R/bin/R CMD build --keep-empty-dirs --no-resave-data RSVSim StartedAt: 2024-10-16 20:33:33 -0400 (Wed, 16 Oct 2024) EndedAt: 2024-10-16 20:34:22 -0400 (Wed, 16 Oct 2024) EllapsedTime: 49.1 seconds RetCode: 0 Status: OK PackageFile: RSVSim_1.44.0.tar.gz PackageFileSize: 505.2 KiB