Package: RSVSim Version: 1.44.0 Command: /Library/Frameworks/R.framework/Resources/bin/R CMD check --install=check:RSVSim.install-out.txt --library=/Library/Frameworks/R.framework/Resources/library --no-vignettes --timings RSVSim_1.44.0.tar.gz StartedAt: 2024-10-17 12:16:17 -0400 (Thu, 17 Oct 2024) EndedAt: 2024-10-17 12:24:55 -0400 (Thu, 17 Oct 2024) EllapsedTime: 517.3 seconds RetCode: 0 Status: OK CheckDir: RSVSim.Rcheck Warnings: 0