Package: RSVSim Version: 1.44.0 Command: /Library/Frameworks/R.framework/Resources/bin/R CMD INSTALL RSVSim StartedAt: 2024-06-09 16:00:49 -0400 (Sun, 09 Jun 2024) EndedAt: 2024-06-09 16:01:35 -0400 (Sun, 09 Jun 2024) EllapsedTime: 45.4 seconds RetCode: 0 Status: OK