Package: RSVSim Version: 1.44.0 Command: /Library/Frameworks/R.framework/Resources/bin/R CMD build --keep-empty-dirs --no-resave-data RSVSim StartedAt: 2024-06-10 03:49:33 -0400 (Mon, 10 Jun 2024) EndedAt: 2024-06-10 03:51:04 -0400 (Mon, 10 Jun 2024) EllapsedTime: 90.2 seconds RetCode: 0 Status: OK PackageFile: RSVSim_1.44.0.tar.gz PackageFileSize: 504.9 KiB