Package: RSVSim Version: 1.44.0 Command: /Library/Frameworks/R.framework/Resources/bin/R CMD check --install=check:RSVSim.install-out.txt --library=/Library/Frameworks/R.framework/Resources/library --no-vignettes --timings RSVSim_1.44.0.tar.gz StartedAt: 2024-10-18 10:20:08 -0400 (Fri, 18 Oct 2024) EndedAt: 2024-10-18 10:24:22 -0400 (Fri, 18 Oct 2024) EllapsedTime: 254.4 seconds RetCode: 0 Status: OK CheckDir: RSVSim.Rcheck Warnings: 0