Package: RRHO Version: 1.44.0 Command: E:\biocbuild\bbs-3.19-bioc\R\bin\R.exe CMD INSTALL RRHO StartedAt: 2024-10-16 16:11:20 -0400 (Wed, 16 Oct 2024) EndedAt: 2024-10-16 16:11:27 -0400 (Wed, 16 Oct 2024) EllapsedTime: 7.1 seconds RetCode: 0 Status: OK