Package: RRHO Version: 1.44.0 Command: E:\biocbuild\bbs-3.19-bioc\R\bin\R.exe CMD check --no-multiarch --install=check:RRHO.install-out.txt --library=E:\biocbuild\bbs-3.19-bioc\R\library --no-vignettes --timings RRHO_1.44.0.tar.gz StartedAt: 2024-10-17 05:15:30 -0400 (Thu, 17 Oct 2024) EndedAt: 2024-10-17 05:16:04 -0400 (Thu, 17 Oct 2024) EllapsedTime: 33.6 seconds RetCode: 0 Status: OK CheckDir: RRHO.Rcheck Warnings: 0