Package: RRHO Version: 1.44.0 Command: chmod a+r RRHO -R && E:\biocbuild\bbs-3.19-bioc\R\bin\R.exe CMD build --keep-empty-dirs --no-resave-data RRHO StartedAt: 2024-10-16 21:38:00 -0400 (Wed, 16 Oct 2024) EndedAt: 2024-10-16 21:38:15 -0400 (Wed, 16 Oct 2024) EllapsedTime: 14.5 seconds RetCode: 0 Status: OK PackageFile: RRHO_1.44.0.tar.gz PackageFileSize: 562.3 KiB