Package: RRHO Version: 1.44.0 Command: rm -rf RRHO.buildbin-libdir && mkdir RRHO.buildbin-libdir && E:\biocbuild\bbs-3.19-bioc\R\bin\R.exe CMD INSTALL --build --library=RRHO.buildbin-libdir RRHO_1.44.0.tar.gz StartedAt: 2024-10-17 08:32:00 -0400 (Thu, 17 Oct 2024) EndedAt: 2024-10-17 08:32:08 -0400 (Thu, 17 Oct 2024) EllapsedTime: 7.7 seconds RetCode: 0 Status: OK PackageFile: RRHO_1.44.0.zip PackageFileSize: 597.4 KiB