Package: RRHO Version: 1.44.0 Command: chmod a+r RRHO -R && F:\biocbuild\bbs-3.19-bioc\R\bin\R.exe CMD build --keep-empty-dirs --no-resave-data RRHO StartedAt: 2024-06-26 21:32:28 -0400 (Wed, 26 Jun 2024) EndedAt: 2024-06-26 21:32:44 -0400 (Wed, 26 Jun 2024) EllapsedTime: 15.6 seconds RetCode: 0 Status: OK PackageFile: RRHO_1.44.0.tar.gz PackageFileSize: 561.3 KiB