Package: RRHO Version: 1.44.0 Command: rm -rf RRHO.buildbin-libdir && mkdir RRHO.buildbin-libdir && F:\biocbuild\bbs-3.19-bioc\R\bin\R.exe CMD INSTALL --build --library=RRHO.buildbin-libdir RRHO_1.44.0.tar.gz StartedAt: 2024-06-27 08:49:52 -0400 (Thu, 27 Jun 2024) EndedAt: 2024-06-27 08:49:59 -0400 (Thu, 27 Jun 2024) EllapsedTime: 6.7 seconds RetCode: 0 Status: OK PackageFile: RRHO_1.44.0.zip PackageFileSize: 596.3 KiB