Package: RRHO Version: 1.44.0 Command: /Library/Frameworks/R.framework/Resources/bin/R CMD INSTALL RRHO StartedAt: 2024-10-16 15:26:32 -0400 (Wed, 16 Oct 2024) EndedAt: 2024-10-16 15:26:37 -0400 (Wed, 16 Oct 2024) EllapsedTime: 5.0 seconds RetCode: 0 Status: OK