Package: RRHO Version: 1.44.0 Command: /Library/Frameworks/R.framework/Resources/bin/R CMD check --install=check:RRHO.install-out.txt --library=/Library/Frameworks/R.framework/Resources/library --no-vignettes --timings RRHO_1.44.0.tar.gz StartedAt: 2024-10-18 10:16:29 -0400 (Fri, 18 Oct 2024) EndedAt: 2024-10-18 10:17:00 -0400 (Fri, 18 Oct 2024) EllapsedTime: 30.4 seconds RetCode: 0 Status: OK CheckDir: RRHO.Rcheck Warnings: 0