Package: RRHO Version: 1.44.0 Maintainer: Jonathan Rosenblatt MaintainerEmail: john.ros.work at gmail.com git_url: https://git.bioconductor.org/packages/RRHO git_branch: RELEASE_3_19 git_last_commit: 91cc2c8 git_last_commit_date: 2024-04-30 10:32:45 -0400 (Tue, 30 Apr 2024)