Package: RProtoBufLib Version: 2.16.0 Command: E:\biocbuild\bbs-3.19-bioc\R\bin\R.exe CMD INSTALL RProtoBufLib StartedAt: 2024-10-16 15:58:18 -0400 (Wed, 16 Oct 2024) EndedAt: 2024-10-16 15:59:20 -0400 (Wed, 16 Oct 2024) EllapsedTime: 62.3 seconds RetCode: 0 Status: OK