Package: RProtoBufLib Version: 2.16.0 Command: E:\biocbuild\bbs-3.19-bioc\R\bin\R.exe CMD check --no-multiarch --install=check:RProtoBufLib.install-out.txt --library=E:\biocbuild\bbs-3.19-bioc\R\library --no-vignettes --timings RProtoBufLib_2.16.0.tar.gz StartedAt: 2024-10-17 05:14:09 -0400 (Thu, 17 Oct 2024) EndedAt: 2024-10-17 05:14:41 -0400 (Thu, 17 Oct 2024) EllapsedTime: 31.6 seconds RetCode: 0 Status: OK CheckDir: RProtoBufLib.Rcheck Warnings: 0