Package: RProtoBufLib Version: 2.16.0 Command: chmod a+r RProtoBufLib -R && E:\biocbuild\bbs-3.19-bioc\R\bin\R.exe CMD build --keep-empty-dirs --no-resave-data RProtoBufLib StartedAt: 2024-10-16 21:37:37 -0400 (Wed, 16 Oct 2024) EndedAt: 2024-10-16 21:38:32 -0400 (Wed, 16 Oct 2024) EllapsedTime: 54.6 seconds RetCode: 0 Status: OK PackageFile: RProtoBufLib_2.16.0.tar.gz PackageFileSize: 21.08 MiB