Package: RProtoBufLib Version: 2.16.0 Command: F:\biocbuild\bbs-3.19-bioc\R\bin\R.exe CMD check --no-multiarch --install=check:RProtoBufLib.install-out.txt --library=F:\biocbuild\bbs-3.19-bioc\R\library --no-vignettes --timings RProtoBufLib_2.16.0.tar.gz StartedAt: 2024-06-27 05:36:39 -0400 (Thu, 27 Jun 2024) EndedAt: 2024-06-27 05:37:18 -0400 (Thu, 27 Jun 2024) EllapsedTime: 39.1 seconds RetCode: 0 Status: OK CheckDir: RProtoBufLib.Rcheck Warnings: 0