Package: RProtoBufLib Version: 2.16.0 Command: rm -rf RProtoBufLib.buildbin-libdir && mkdir RProtoBufLib.buildbin-libdir && F:\biocbuild\bbs-3.19-bioc\R\bin\R.exe CMD INSTALL --build --library=RProtoBufLib.buildbin-libdir RProtoBufLib_2.16.0.tar.gz StartedAt: 2024-06-27 08:49:41 -0400 (Thu, 27 Jun 2024) EndedAt: 2024-06-27 08:50:36 -0400 (Thu, 27 Jun 2024) EllapsedTime: 54.8 seconds RetCode: 0 Status: OK PackageFile: RProtoBufLib_2.16.0.zip PackageFileSize: 2.301 MiB