Package: RProtoBufLib Version: 2.16.0 Command: /home/biocbuild/bbs-3.19-bioc/R/bin/R CMD build --keep-empty-dirs --no-resave-data RProtoBufLib StartedAt: 2024-10-16 20:32:48 -0400 (Wed, 16 Oct 2024) EndedAt: 2024-10-16 20:37:08 -0400 (Wed, 16 Oct 2024) EllapsedTime: 259.8 seconds RetCode: 0 Status: OK PackageFile: RProtoBufLib_2.16.0.tar.gz PackageFileSize: 2.839 MiB