Package: RProtoBufLib Version: 2.16.0 Command: rm -rf RProtoBufLib.buildbin-libdir && mkdir RProtoBufLib.buildbin-libdir && /Users/biocbuild/BBS/utils/build-universal.sh RProtoBufLib_2.16.0.tar.gz /Library/Frameworks/R.framework/Resources/bin/R RProtoBufLib.buildbin-libdir StartedAt: 2024-06-10 00:36:39 -0400 (Mon, 10 Jun 2024) EndedAt: 2024-06-10 00:43:15 -0400 (Mon, 10 Jun 2024) EllapsedTime: 395.8 seconds RetCode: 0 Status: OK PackageFile: RProtoBufLib_2.16.0.tgz PackageFileSize: 3.461 MiB