Package: RProtoBufLib Version: 2.16.0 Command: /Library/Frameworks/R.framework/Resources/bin/R CMD check --install=check:RProtoBufLib.install-out.txt --library=/Library/Frameworks/R.framework/Resources/library --no-vignettes --timings RProtoBufLib_2.16.0.tar.gz StartedAt: 2024-06-11 03:42:21 -0400 (Tue, 11 Jun 2024) EndedAt: 2024-06-11 03:43:11 -0400 (Tue, 11 Jun 2024) EllapsedTime: 49.2 seconds RetCode: 0 Status: WARNINGS CheckDir: RProtoBufLib.Rcheck Warnings: 2