Package: RProtoBufLib Version: 2.16.0 Command: /Library/Frameworks/R.framework/Resources/bin/R CMD build --keep-empty-dirs --no-resave-data RProtoBufLib StartedAt: 2024-06-10 03:46:54 -0400 (Mon, 10 Jun 2024) EndedAt: 2024-06-10 03:54:14 -0400 (Mon, 10 Jun 2024) EllapsedTime: 440.2 seconds RetCode: 0 Status: OK PackageFile: RProtoBufLib_2.16.0.tar.gz PackageFileSize: 2.796 MiB