Package: RProtoBufLib Version: 2.16.0 Command: /Library/Frameworks/R.framework/Resources/bin/R CMD check --install=check:RProtoBufLib.install-out.txt --library=/Library/Frameworks/R.framework/Resources/library --no-vignettes --timings RProtoBufLib_2.16.0.tar.gz StartedAt: 2024-10-18 10:13:30 -0400 (Fri, 18 Oct 2024) EndedAt: 2024-10-18 10:13:55 -0400 (Fri, 18 Oct 2024) EllapsedTime: 25.2 seconds RetCode: 0 Status: WARNINGS CheckDir: RProtoBufLib.Rcheck Warnings: 2