Package: RProtoBufLib Version: 2.16.0 Command: /Library/Frameworks/R.framework/Resources/bin/R CMD build --keep-empty-dirs --no-resave-data RProtoBufLib StartedAt: 2024-10-17 08:00:37 -0400 (Thu, 17 Oct 2024) EndedAt: 2024-10-17 08:05:59 -0400 (Thu, 17 Oct 2024) EllapsedTime: 321.8 seconds RetCode: 0 Status: OK PackageFile: RProtoBufLib_2.16.0.tar.gz PackageFileSize: 2.798 MiB